BEGIN:VCALENDAR
VERSION:2.0
PRODID:-//Kings Arena Church - ECPv6.10.1.1//NONSGML v1.0//EN
CALSCALE:GREGORIAN
METHOD:PUBLISH
X-WR-CALNAME:Kings Arena Church
X-ORIGINAL-URL:https://www.kingsarenachurch.com
X-WR-CALDESC:Events for Kings Arena Church
REFRESH-INTERVAL;VALUE=DURATION:PT1H
X-Robots-Tag:noindex
X-PUBLISHED-TTL:PT1H
BEGIN:VTIMEZONE
TZID:Europe/Dublin
BEGIN:STANDARD
TZOFFSETFROM:+0000
TZOFFSETTO:+0100
TZNAME:IST
DTSTART:20230326T010000
END:STANDARD
BEGIN:DAYLIGHT
TZOFFSETFROM:+0100
TZOFFSETTO:+0000
TZNAME:GMT
DTSTART:20231029T010000
END:DAYLIGHT
BEGIN:STANDARD
TZOFFSETFROM:+0000
TZOFFSETTO:+0100
TZNAME:IST
DTSTART:20240331T010000
END:STANDARD
BEGIN:DAYLIGHT
TZOFFSETFROM:+0100
TZOFFSETTO:+0000
TZNAME:GMT
DTSTART:20241027T010000
END:DAYLIGHT
END:VTIMEZONE
BEGIN:VEVENT
DTSTART;TZID=Europe/Dublin:20240511T120000
DTEND;TZID=Europe/Dublin:20240511T140000
DTSTAMP:20260423T113752
CREATED:20240415T191253Z
LAST-MODIFIED:20240415T195916Z
UID:6168-1715428800-1715436000@www.kingsarenachurch.com
SUMMARY:Empowering Journeys 2024
DESCRIPTION:Navigating New Beginnings\nDate: Saturday May 11\, 2024. \nTime: 12PM. \n\nTaxation\, banking\, and financial management;\nLegal Rights\, responsibilities\, and immigration processes;\nLiving in Ireland: practical guidance and tips;\nExploring job opportunities;\nNavigating the business landscape in Ireland;\nEducational pathways and beyond;\nEngage with experts\, peers\, and resources while fostering community and networking connections.\n\nRegister Here
URL:https://www.kingsarenachurch.com/event/empowering-journeys-2024/
LOCATION:Kings Arena Dublin\, RCCG King's Arena\, St Anne's National School\, Shankill\, Dublin\, Dublin\, D18AV61\, Ireland
CATEGORIES:Outdoors
ATTACH;FMTTYPE=image/png:https://assets.kad.church/wp-content/uploads/2024/04/15194440/empowering-2024-optimized.png
ORGANIZER;CN="Kings Arena Church":MAILTO:admin@kad.church
END:VEVENT
BEGIN:VEVENT
DTSTART;VALUE=DATE:20230807
DTEND;VALUE=DATE:20230808
DTSTAMP:20260423T113752
CREATED:20230616T004643Z
LAST-MODIFIED:20230616T075405Z
UID:6131-1691366400-1691452799@www.kingsarenachurch.com
SUMMARY:Family Fun Day
DESCRIPTION:August Bank Holiday Family Fun Day:Sports Festival 2023. \nTrack and field events including football\, table tennis\, basketball\, etc.
URL:https://www.kingsarenachurch.com/event/family-fun-day/
LOCATION:Sport Ireland\, National Aquatic Centre\, Snugborough Rd\, Blanchardstown\, Dublin 15\, Ireland
CATEGORIES:Outdoors
ATTACH;FMTTYPE=image/png:https://assets.kad.church/wp-content/uploads/2023/06/16084508/sports-festival-landscape-1.png
ORGANIZER;CN="RCCG Ireland":MAILTO:centraloffice@rccgireland.org
END:VEVENT
BEGIN:VEVENT
DTSTART;TZID=Europe/Dublin:20230730T131500
DTEND;TZID=Europe/Dublin:20230730T143000
DTSTAMP:20260423T113752
CREATED:20230616T004145Z
LAST-MODIFIED:20230616T004637Z
UID:6127-1690722900-1690727400@www.kingsarenachurch.com
SUMMARY:Men's Fellowship
DESCRIPTION:King’s Arena Parish Men’s Fellowship
URL:https://www.kingsarenachurch.com/event/mens-fellowship/
LOCATION:3 Bayview Lawns\, 3 Bayview Lawns Killiney\, Co. Dublin\, Ireland
CATEGORIES:Fellowships
ATTACH;FMTTYPE=image/png:https://assets.kad.church/wp-content/uploads/2023/06/16014610/men-fellowship-landscape.png
END:VEVENT
BEGIN:VEVENT
DTSTART;TZID=Europe/Dublin:20230722T100000
DTEND;TZID=Europe/Dublin:20230722T140000
DTSTAMP:20260423T113752
CREATED:20230616T002049Z
LAST-MODIFIED:20230616T003240Z
UID:6109-1690020000-1690034400@www.kingsarenachurch.com
SUMMARY:Bray to Greystone Hike
DESCRIPTION:You are invited to our Bray to Greystone Hike. Invite your friends and family for a day of fun and wellness.
URL:https://www.kingsarenachurch.com/event/bray-to-greystone-hike/
LOCATION:Bray DART Station\, Bray DART Station\, Bray\, Co. Wicklow\, Ireland
CATEGORIES:Outdoors
ATTACH;FMTTYPE=image/png:https://assets.kad.church/wp-content/uploads/2023/06/16013021/bray-hike-landscape.png
ORGANIZER;CN="Kings Arena Church":MAILTO:admin@kad.church
END:VEVENT
BEGIN:VEVENT
DTSTART;TZID=Europe/Dublin:20230623T160000
DTEND;TZID=Europe/Dublin:20230625T170000
DTSTAMP:20260423T113752
CREATED:20230616T003320Z
LAST-MODIFIED:20230616T004102Z
UID:6123-1687536000-1687712400@www.kingsarenachurch.com
SUMMARY:Couples Retreat
DESCRIPTION:Rediscover the secrets to making marriage work.
URL:https://www.kingsarenachurch.com/event/couples-retreat/
LOCATION:Talbot Hotel Carlow\, Talbot Hotel Carlow\, Graigue\, Portlaoise Road\, Co. Carlow\, Ireland
CATEGORIES:Retreat
ATTACH;FMTTYPE=image/jpeg:https://assets.kad.church/wp-content/uploads/2023/06/16014014/couples-retreat.jpg
END:VEVENT
BEGIN:VEVENT
DTSTART;TZID=Europe/Dublin:20230618T103000
DTEND;TZID=Europe/Dublin:20230618T123000
DTSTAMP:20260423T113752
CREATED:20230615T235919Z
LAST-MODIFIED:20230616T003149Z
UID:6101-1687084200-1687091400@www.kingsarenachurch.com
SUMMARY:Picnic Service
DESCRIPTION:Join us for a time of fellowship. All are welcome\, invite family\, friends and neighbours.
URL:https://www.kingsarenachurch.com/event/picnic-service/
LOCATION:Cabinteely Park\, Cabinteely Park\, Bray Rd\, Dun Laoghaire\, Co. Dublin\, Ireland
CATEGORIES:Outdoors
ATTACH;FMTTYPE=image/png:https://assets.kad.church/wp-content/uploads/2023/06/16010140/picnic-service-landscape-1.png
ORGANIZER;CN="Kings Arena Church":MAILTO:admin@kad.church
END:VEVENT
BEGIN:VEVENT
DTSTART;TZID=Europe/Dublin:20230617T120000
DTEND;TZID=Europe/Dublin:20230617T140000
DTSTAMP:20260423T113752
CREATED:20230616T074811Z
LAST-MODIFIED:20230616T075352Z
UID:6138-1687003200-1687010400@www.kingsarenachurch.com
SUMMARY:Women's Fellowship
DESCRIPTION:A time for Thanksgiving\, Prayer\, and Intercession.
URL:https://www.kingsarenachurch.com/event/womens-fellowship/
LOCATION:6 Lyton Court\, 6 Lyton Court\, Merrion Road\, Ballsbridge\, Dublin\, Dublin\, D04 EW80\, Ireland
CATEGORIES:Fellowships
ATTACH;FMTTYPE=image/png:https://assets.kad.church/wp-content/uploads/2023/06/16085258/women-fellowship-landscape.png
ORGANIZER;CN="Kings Arena Church":MAILTO:admin@kad.church
END:VEVENT
END:VCALENDAR