BEGIN:VCALENDAR
VERSION:2.0
PRODID:-//Kings Arena Church - ECPv6.10.1.1//NONSGML v1.0//EN
CALSCALE:GREGORIAN
METHOD:PUBLISH
X-WR-CALNAME:Kings Arena Church
X-ORIGINAL-URL:https://www.kingsarenachurch.com
X-WR-CALDESC:Events for Kings Arena Church
REFRESH-INTERVAL;VALUE=DURATION:PT1H
X-Robots-Tag:noindex
X-PUBLISHED-TTL:PT1H
BEGIN:VTIMEZONE
TZID:Europe/Dublin
BEGIN:STANDARD
TZOFFSETFROM:+0000
TZOFFSETTO:+0100
TZNAME:IST
DTSTART:20230326T010000
END:STANDARD
BEGIN:DAYLIGHT
TZOFFSETFROM:+0100
TZOFFSETTO:+0000
TZNAME:GMT
DTSTART:20231029T010000
END:DAYLIGHT
END:VTIMEZONE
BEGIN:VEVENT
DTSTART;TZID=Europe/Dublin:20230623T160000
DTEND;TZID=Europe/Dublin:20230625T170000
DTSTAMP:20260423T163501
CREATED:20230616T003320Z
LAST-MODIFIED:20230616T004102Z
UID:6123-1687536000-1687712400@www.kingsarenachurch.com
SUMMARY:Couples Retreat
DESCRIPTION:Rediscover the secrets to making marriage work.
URL:https://www.kingsarenachurch.com/event/couples-retreat/
LOCATION:Talbot Hotel Carlow\, Talbot Hotel Carlow\, Graigue\, Portlaoise Road\, Co. Carlow\, Ireland
CATEGORIES:Retreat
ATTACH;FMTTYPE=image/jpeg:https://assets.kad.church/wp-content/uploads/2023/06/16014014/couples-retreat.jpg
END:VEVENT
END:VCALENDAR